Workbook

Sheet Faktury
A1: Faktury kosztowe wspólnot · wrzesień 2026
A2: Przykład z danymi fikcyjnymi · wygenerowano przez KSeF Import
A4: Nabywca NIP | B4: Nabywca | C4: Data wystawienia | D4: Nr faktury | E4: Sprzedawca | F4: Sprzedawca NIP | G4: Netto | H4: VAT | I4: Brutto | J4: Do zapłaty | K4: Termin płatności | L4: Czy opłacona? | M4: Forma płatności | N4: Nr konta bankowego | O4: Nr KSeF
A5: 5550000100 | B5: Wspólnota Mieszkaniowa Klonowa 12 | C5: 46267 | D5: FV/2026/09/0588 | E5: Ciepłownia Nadrzeczna Sp. z o.o. | F5: 9765479241 | G5: 5754 | H5: 460.32 | I5: 6214.32 | J5: 6214.32 | K5: 46281 | L5: Zapłacona | M5: Przelew | N5: 22 3135 2015 3526 4175 6812 2109 | O5: 9765479241-20260902-081440AEFBAE-E8
A6: 5550000100 | B6: Wspólnota Mieszkaniowa Klonowa 12 | C6: 46270 | D6: W/2026/000447 | E6: Wodociągi Doliny Sp. z o.o. | F6: 7984191656 | G6: 2239.72 | H6: 179.18 | I6: 2418.9 | J6: 2418.9 | K6: 46284 | L6: Zapłacona | M6: Przelew | N6: 67 2005 3476 9803 4042 8716 0840 | O6: 7984191656-20260905-F2CF4812F9A3-F4
A7: 5550000100 | B7: Wspólnota Mieszkaniowa Klonowa 12 | C7: 46283 | D7: 863/2026 | E7: Remont-Bud Usługi Budowlane | F7: 5250629680 | G7: 900 | H7: 207 | I7: 1107 | J7: 1107 | K7: 46290 | L7: Po terminie | M7: Przelew | N7: 56 5454 1795 9139 0717 8452 4689 | O7: 5250629680-20260918-0F10BC4561D2-8F
A8: 5550000100 | B8: Wspólnota Mieszkaniowa Klonowa 12 | C8: 46286 | D8: DBG/0297/2026 | E8: Deratyzacja Bez Gryzoni Sp. z o.o. | F8: 4311922757 | G8: 512.27 | H8: 117.82 | I8: 630.09 | J8: 630.09 | K8: 46300 | L8: Niezapłacona | M8: Przelew | N8: 22 7321 0125 0204 7326 1544 1035 | O8: 4311922757-20260921-96814AEC3D5C-D0
A9: 5550000100 | B9: Wspólnota Mieszkaniowa Klonowa 12 | C9: 46286 | D9: FV/2026/09/0467 | E9: Naprawy od Ręki Sp. z o.o. | F9: 2633551755 | G9: 1589.1 | H9: 365.49 | I9: 1954.59 | J9: 1954.59 | K9: 46300 | L9: Zapłacona | M9: Przelew | N9: 93 0767 1892 7688 4758 7357 9044 | O9: 2633551755-20260921-247FF3C14A82-32
A10: 5550000100 | B10: Wspólnota Mieszkaniowa Klonowa 12 | C10: 46286 | D10: 869/2026 | E10: Remont-Bud Usługi Budowlane | F10: 5250629680 | G10: 1142.76 | H10: 91.42 | I10: 1234.18 | J10: 1234.18 | K10: 46293 | L10: Zapłacona | M10: Przelew | N10: 56 5454 1795 9139 0717 8452 4689 | O10: 5250629680-20260921-C465F4C4D276-83
A11: 5550000100 | B11: Wspólnota Mieszkaniowa Klonowa 12 | C11: 46287 | D11: 304/09/2026 | E11: Czysty Dom Usługi Porządkowe | F11: 7082275626 | G11: 540 | H11: 124.2 | I11: 664.2 | J11: 664.2 | K11: 46315 | L11: Niezapłacona | M11: Przelew | N11: 32 1327 9884 5962 7788 2917 9897 | O11: 7082275626-20260922-F32A3D07CF35-13
A12: 5550000100 | B12: Wspólnota Mieszkaniowa Klonowa 12 | C12: 46287 | D12: 706/09/2026 | E12: Serwis Domofonów Dzwonek s.c. | F12: 6559767175 | G12: 581.16 | H12: 133.67 | I12: 714.83 | J12: 714.83 | K12: 46301 | L12: Zapłacona | M12: Przelew | N12: 41 9617 9773 8785 4572 8649 9521 | O12: 6559767175-20260922-DDDA508DD7B0-22
A13: 5550000100 | B13: Wspólnota Mieszkaniowa Klonowa 12 | C13: 46287 | D13: 707/09/2026 | E13: Serwis Domofonów Dzwonek s.c. | F13: 6559767175 | G13: 278.68 | H13: 64.1 | I13: 342.78 | J13: 342.78 | K13: 46301 | L13: Zapłacona | M13: Przelew | N13: 41 9617 9773 8785 4572 8649 9521 | O13: 6559767175-20260922-CFC232030FC6-03
A14: 5550000100 | B14: Wspólnota Mieszkaniowa Klonowa 12 | C14: 46287 | D14: 709/09/2026 | E14: Serwis Domofonów Dzwonek s.c. | F14: 6559767175 | G14: 394.38 | H14: 90.71 | I14: 485.09 | J14: 485.09 | K14: 46301 | L14: Zapłacona | M14: Przelew | N14: 41 9617 9773 8785 4572 8649 9521 | O14: 6559767175-20260922-286417792EAF-38
A15: 5550000100 | B15: Wspólnota Mieszkaniowa Klonowa 12 | C15: 46288 | D15: F-2026-0444 | E15: Hurtownia Materiałów Przykładowa | F15: 9579991343 | G15: 148.43 | H15: 34.14 | I15: 182.57 | J15: 182.57 | K15: 46295 | L15: Zapłacona | M15: Przelew | N15: 63 4729 5253 6488 3263 0551 3350 | O15: 9579991343-20260923-A44E794F872A-1E
A16: 5550000100 | B16: Wspólnota Mieszkaniowa Klonowa 12 | C16: 46288 | D16: F-2026-0447 | E16: Hurtownia Materiałów Przykładowa | F16: 9579991343 | G16: 440.99 | H16: 101.43 | I16: 542.42 | J16: 542.42 | K16: 46295 | L16: Zapłacona | M16: Przelew | N16: 63 4729 5253 6488 3263 0551 3350 | O16: 9579991343-20260923-77E0F1FE01A5-59
... A759: 5603921629 | B759: Wspólnota Mieszkaniowa Żurawia 19 | C759: 46295 | D759: FV/2026/09/0504 | E759: Naprawy od Ręki Sp. z o.o. | F759: 2633551755 | G759: 456.84 | H759: 105.07 | I759: 561.91 | J759: 561.91 | K759: 46309 | L759: Niezapłacona | M759: Przelew | N759: 93 0767 1892 7688 4758 7357 9044 | O759: 2633551755-20260930-6D4F958A5C0A-21
B760: Razem (widoczne wiersze) | D760: =SUBTOTAL(103,D5:D759) | G760: =SUBTOTAL(109,G5:G759) | H760: =SUBTOTAL(109,H5:H759) | I760: =SUBTOTAL(109,I5:I759) | J760: =SUBTOTAL(109,J5:J759)

Sheet Podsumowanie wspólnot
A1: Podsumowanie wspólnot · wrzesień 2026
A3: Nabywca NIP | B3: Nabywca | C3: Liczba faktur | D3: Netto | E3: VAT | F3: Brutto | G3: Do zapłaty (Niezapłacona + Po terminie) | H3: Faktury po terminie
A4: 5550000100 | B4: Wspólnota Mieszkaniowa Klonowa 12 | C4: =COUNTIFS(Faktury!$A$5:$A$759,$A4) | D4: =SUMIFS(Faktury!$G$5:$G$759,Faktury!$A$5:$A$759,$A4) | E4: =SUMIFS(Faktury!$H$5:$H$759,Faktury!$A$5:$A$759,$A4) | F4: =SUMIFS(Faktury!$I$5:$I$759,Faktury!$A$5:$A$759,$A4) | G4: =SUMIFS(Faktury!$J$5:$J$759,Faktury!$A$5:$A$759,$A4,Faktury!$L$5:$L$759,"Niezapłacona")+SUMIFS(Faktury!$J$5:$J$759,Faktury!$A$5:$A$759,$A4,Faktury!$L$5:$L$759,"Po terminie") | H4: =COUNTIFS(Faktury!$A$5:$A$759,$A4,Faktury!$L$5:$L$759,"Po terminie")
A5: 6841970104 | B5: Wspólnota Mieszkaniowa Lazurowa 9 | C5: =COUNTIFS(Faktury!$A$5:$A$759,$A5) | D5: =SUMIFS(Faktury!$G$5:$G$759,Faktury!$A$5:$A$759,$A5) | E5: =SUMIFS(Faktury!$H$5:$H$759,Faktury!$A$5:$A$759,$A5) | F5: =SUMIFS(Faktury!$I$5:$I$759,Faktury!$A$5:$A$759,$A5) | G5: =SUMIFS(Faktury!$J$5:$J$759,Faktury!$A$5:$A$759,$A5,Faktury!$L$5:$L$759,"Niezapłacona")+SUMIFS(Faktury!$J$5:$J$759,Faktury!$A$5:$A$759,$A5,Faktury!$L$5:$L$759,"Po terminie") | H5: =COUNTIFS(Faktury!$A$5:$A$759,$A5,Faktury!$L$5:$L$759,"Po terminie")
A6: 2366312443 | B6: Wspólnota Mieszkaniowa Parkowa 1 | C6: =COUNTIFS(Faktury!$A$5:$A$759,$A6) | D6: =SUMIFS(Faktury!$G$5:$G$759,Faktury!$A$5:$A$759,$A6) | E6: =SUMIFS(Faktury!$H$5:$H$759,Faktury!$A$5:$A$759,$A6) | F6: =SUMIFS(Faktury!$I$5:$I$759,Faktury!$A$5:$A$759,$A6) | G6: =SUMIFS(Faktury!$J$5:$J$759,Faktury!$A$5:$A$759,$A6,Faktury!$L$5:$L$759,"Niezapłacona")+SUMIFS(Faktury!$J$5:$J$759,Faktury!$A$5:$A$759,$A6,Faktury!$L$5:$L$759,"Po terminie") | H6: =COUNTIFS(Faktury!$A$5:$A$759,$A6,Faktury!$L$5:$L$759,"Po terminie")
A7: 1471126018 | B7: Wspólnota Mieszkaniowa Łąkowa 49 | C7: =COUNTIFS(Faktury!$A$5:$A$759,$A7) | D7: =SUMIFS(Faktury!$G$5:$G$759,Faktury!$A$5:$A$759,$A7) | E7: =SUMIFS(Faktury!$H$5:$H$759,Faktury!$A$5:$A$759,$A7) | F7: =SUMIFS(Faktury!$I$5:$I$759,Faktury!$A$5:$A$759,$A7) | G7: =SUMIFS(Faktury!$J$5:$J$759,Faktury!$A$5:$A$759,$A7,Faktury!$L$5:$L$759,"Niezapłacona")+SUMIFS(Faktury!$J$5:$J$759,Faktury!$A$5:$A$759,$A7,Faktury!$L$5:$L$759,"Po terminie") | H7: =COUNTIFS(Faktury!$A$5:$A$759,$A7,Faktury!$L$5:$L$759,"Po terminie")
A8: 5550000200 | B8: Wspólnota Mieszkaniowa Lipowa 3 | C8: =COUNTIFS(Faktury!$A$5:$A$759,$A8) | D8: =SUMIFS(Faktury!$G$5:$G$759,Faktury!$A$5:$A$759,$A8) | E8: =SUMIFS(Faktury!$H$5:$H$759,Faktury!$A$5:$A$759,$A8) | F8: =SUMIFS(Faktury!$I$5:$I$759,Faktury!$A$5:$A$759,$A8) | G8: =SUMIFS(Faktury!$J$5:$J$759,Faktury!$A$5:$A$759,$A8,Faktury!$L$5:$L$759,"Niezapłacona")+SUMIFS(Faktury!$J$5:$J$759,Faktury!$A$5:$A$759,$A8,Faktury!$L$5:$L$759,"Po terminie") | H8: =COUNTIFS(Faktury!$A$5:$A$759,$A8,Faktury!$L$5:$L$759,"Po terminie")
A9: 2231968798 | B9: Wspólnota Mieszkaniowa Malinowa 20 | C9: =COUNTIFS(Faktury!$A$5:$A$759,$A9) | D9: =SUMIFS(Faktury!$G$5:$G$759,Faktury!$A$5:$A$759,$A9) | E9: =SUMIFS(Faktury!$H$5:$H$759,Faktury!$A$5:$A$759,$A9) | F9: =SUMIFS(Faktury!$I$5:$I$759,Faktury!$A$5:$A$759,$A9) | G9: =SUMIFS(Faktury!$J$5:$J$759,Faktury!$A$5:$A$759,$A9,Faktury!$L$5:$L$759,"Niezapłacona")+SUMIFS(Faktury!$J$5:$J$759,Faktury!$A$5:$A$759,$A9,Faktury!$L$5:$L$759,"Po terminie") | H9: =COUNTIFS(Faktury!$A$5:$A$759,$A9,Faktury!$L$5:$L$759,"Po terminie")
A10: 5603921629 | B10: Wspólnota Mieszkaniowa Żurawia 19 | C10: =COUNTIFS(Faktury!$A$5:$A$759,$A10) | D10: =SUMIFS(Faktury!$G$5:$G$759,Faktury!$A$5:$A$759,$A10) | E10: =SUMIFS(Faktury!$H$5:$H$759,Faktury!$A$5:$A$759,$A10) | F10: =SUMIFS(Faktury!$I$5:$I$759,Faktury!$A$5:$A$759,$A10) | G10: =SUMIFS(Faktury!$J$5:$J$759,Faktury!$A$5:$A$759,$A10,Faktury!$L$5:$L$759,"Niezapłacona")+SUMIFS(Faktury!$J$5:$J$759,Faktury!$A$5:$A$759,$A10,Faktury!$L$5:$L$759,"Po terminie") | H10: =COUNTIFS(Faktury!$A$5:$A$759,$A10,Faktury!$L$5:$L$759,"Po terminie")
A11: 2753639897 | B11: Wspólnota Mieszkaniowa Zielona 51 | C11: =COUNTIFS(Faktury!$A$5:$A$759,$A11) | D11: =SUMIFS(Faktury!$G$5:$G$759,Faktury!$A$5:$A$759,$A11) | E11: =SUMIFS(Faktury!$H$5:$H$759,Faktury!$A$5:$A$759,$A11) | F11: =SUMIFS(Faktury!$I$5:$I$759,Faktury!$A$5:$A$759,$A11) | G11: =SUMIFS(Faktury!$J$5:$J$759,Faktury!$A$5:$A$759,$A11,Faktury!$L$5:$L$759,"Niezapłacona")+SUMIFS(Faktury!$J$5:$J$759,Faktury!$A$5:$A$759,$A11,Faktury!$L$5:$L$759,"Po terminie") | H11: =COUNTIFS(Faktury!$A$5:$A$759,$A11,Faktury!$L$5:$L$759,"Po terminie")
A12: 3656138947 | B12: Wspólnota Mieszkaniowa Szkolna 58 | C12: =COUNTIFS(Faktury!$A$5:$A$759,$A12) | D12: =SUMIFS(Faktury!$G$5:$G$759,Faktury!$A$5:$A$759,$A12) | E12: =SUMIFS(Faktury!$H$5:$H$759,Faktury!$A$5:$A$759,$A12) | F12: =SUMIFS(Faktury!$I$5:$I$759,Faktury!$A$5:$A$759,$A12) | G12: =SUMIFS(Faktury!$J$5:$J$759,Faktury!$A$5:$A$759,$A12,Faktury!$L$5:$L$759,"Niezapłacona")+SUMIFS(Faktury!$J$5:$J$759,Faktury!$A$5:$A$759,$A12,Faktury!$L$5:$L$759,"Po terminie") | H12: =COUNTIFS(Faktury!$A$5:$A$759,$A12,Faktury!$L$5:$L$759,"Po terminie")
A13: 7897075083 | B13: Wspólnota Mieszkaniowa Sosnowa 34 | C13: =COUNTIFS(Faktury!$A$5:$A$759,$A13) | D13: =SUMIFS(Faktury!$G$5:$G$759,Faktury!$A$5:$A$759,$A13) | E13: =SUMIFS(Faktury!$H$5:$H$759,Faktury!$A$5:$A$759,$A13) | F13: =SUMIFS(Faktury!$I$5:$I$759,Faktury!$A$5:$A$759,$A13) | G13: =SUMIFS(Faktury!$J$5:$J$759,Faktury!$A$5:$A$759,$A13,Faktury!$L$5:$L$759,"Niezapłacona")+SUMIFS(Faktury!$J$5:$J$759,Faktury!$A$5:$A$759,$A13,Faktury!$L$5:$L$759,"Po terminie") | H13: =COUNTIFS(Faktury!$A$5:$A$759,$A13,Faktury!$L$5:$L$759,"Po terminie")
A14: 8008319696 | B14: Wspólnota Mieszkaniowa Źródlana 8 | C14: =COUNTIFS(Faktury!$A$5:$A$759,$A14) | D14: =SUMIFS(Faktury!$G$5:$G$759,Faktury!$A$5:$A$759,$A14) | E14: =SUMIFS(Faktury!$H$5:$H$759,Faktury!$A$5:$A$759,$A14) | F14: =SUMIFS(Faktury!$I$5:$I$759,Faktury!$A$5:$A$759,$A14) | G14: =SUMIFS(Faktury!$J$5:$J$759,Faktury!$A$5:$A$759,$A14,Faktury!$L$5:$L$759,"Niezapłacona")+SUMIFS(Faktury!$J$5:$J$759,Faktury!$A$5:$A$759,$A14,Faktury!$L$5:$L$759,"Po terminie") | H14: =COUNTIFS(Faktury!$A$5:$A$759,$A14,Faktury!$L$5:$L$759,"Po terminie")
A15: 1032478111 | B15: Wspólnota Mieszkaniowa Wiśniowa 50 | C15: =COUNTIFS(Faktury!$A$5:$A$759,$A15) | D15: =SUMIFS(Faktury!$G$5:$G$759,Faktury!$A$5:$A$759,$A15) | E15: =SUMIFS(Faktury!$H$5:$H$759,Faktury!$A$5:$A$759,$A15) | F15: =SUMIFS(Faktury!$I$5:$I$759,Faktury!$A$5:$A$759,$A15) | G15: =SUMIFS(Faktury!$J$5:$J$759,Faktury!$A$5:$A$759,$A15,Faktury!$L$5:$L$759,"Niezapłacona")+SUMIFS(Faktury!$J$5:$J$759,Faktury!$A$5:$A$759,$A15,Faktury!$L$5:$L$759,"Po terminie") | H15: =COUNTIFS(Faktury!$A$5:$A$759,$A15,Faktury!$L$5:$L$759,"Po terminie")
... A33: 1890767264 | B33: Wspólnota Mieszkaniowa Miodowa 17 | C33: =COUNTIFS(Faktury!$A$5:$A$759,$A33) | D33: =SUMIFS(Faktury!$G$5:$G$759,Faktury!$A$5:$A$759,$A33) | E33: =SUMIFS(Faktury!$H$5:$H$759,Faktury!$A$5:$A$759,$A33) | F33: =SUMIFS(Faktury!$I$5:$I$759,Faktury!$A$5:$A$759,$A33) | G33: =SUMIFS(Faktury!$J$5:$J$759,Faktury!$A$5:$A$759,$A33,Faktury!$L$5:$L$759,"Niezapłacona")+SUMIFS(Faktury!$J$5:$J$759,Faktury!$A$5:$A$759,$A33,Faktury!$L$5:$L$759,"Po terminie") | H33: =COUNTIFS(Faktury!$A$5:$A$759,$A33,Faktury!$L$5:$L$759,"Po terminie")
B34: Razem | C34: =SUBTOTAL(109,C4:C33) | D34: =SUBTOTAL(109,D4:D33) | E34: =SUBTOTAL(109,E4:E33) | F34: =SUBTOTAL(109,F4:F33) | G34: =SUBTOTAL(109,G4:G33) | H34: =SUBTOTAL(109,H4:H33)

Sheet Jak korzystać
A1: Jak korzystać z tego pliku
A3: Dane w tym pliku są fikcyjne i służą wyłącznie do pokazania możliwości.
A5: Filtrowanie: kliknij strzałkę w nagłówku „Nabywca NIP” lub „Nabywca” i wybierz wspólnotę. Suma na dole tabeli pokaże wartości tylko dla wybranej wspólnoty.
A7: Eksport z panelu KSeF Import zawiera te same kolumny i dane. Żeby uzyskać taki widok: zaznacz dane i naciśnij Ctrl+T (tabela z filtrami) albo Ctrl+Shift+L (same filtry).
A9: Kolumny eksportu wybierasz w panelu w sekcji Pola eksportu (52 dostępne pola).
A11: KSeF Import · ksefimport.pl
